BEGIN:VCALENDAR
VERSION:2.0
PRODID:-//PopupFoodApp//Event//EN
CALSCALE:GREGORIAN
METHOD:PUBLISH
BEGIN:VEVENT
UID:9-1776748624@popupfoodapp.com
DTSTAMP:20260421T051704Z
DTSTART:20260411T180000
DTEND:20260411T210000
SUMMARY:Abiding Cakes CULDESAC TEMPE 
DESCRIPTION:COME GET YOUR GOODIES FROM 6PM-9PMClick on the link to see menu and to order a shipment! ABIDING CAKES ORDER MENU
LOCATION:2021 East Apache Boulevard\, Tempe\, AZ\, USA
END:VEVENT
END:VCALENDAR
