BEGIN:VCALENDAR
VERSION:2.0
PRODID:-//PopupFoodApp//Event//EN
CALSCALE:GREGORIAN
METHOD:PUBLISH
BEGIN:VEVENT
UID:8-1776748612@popupfoodapp.com
DTSTAMP:20260421T051652Z
DTSTART:20260411T100000
DTEND:20260411T170000
SUMMARY:Abiding Cakes FAITHFUL FINDS MARKET - GILBERT
DESCRIPTION:COME GET YOUR GOODIES in GILBERT! Click on the link to see menu and to order an shipment! ABIDING CAKES ORDER MENU
LOCATION:202 South Gilbert Road\, Gilbert\, AZ\, USA
END:VEVENT
END:VCALENDAR
