BEGIN:VCALENDAR
VERSION:2.0
PRODID:-//PopupFoodApp//Event//EN
CALSCALE:GREGORIAN
METHOD:PUBLISH
BEGIN:VEVENT
UID:7-1776748695@popupfoodapp.com
DTSTAMP:20260421T051815Z
DTSTART:20260410T170000
DTEND:20260410T220000
SUMMARY:Abiding Cakes STREET FOOD SOCIETY - PHX
DESCRIPTION:Get all the GOODIES from 5PM-10PM at the STREET FOOD SOCIETY!Click here to see menu and to place a shipping order! ABIDING CAKES SHIPPING ORDER 
LOCATION:7901 North Central Avenue\, Phoenix\, AZ\, USA
END:VEVENT
END:VCALENDAR
