BEGIN:VCALENDAR
VERSION:2.0
PRODID:-//PopupFoodApp//Event//EN
CALSCALE:GREGORIAN
METHOD:PUBLISH
BEGIN:VEVENT
UID:6-1776748639@popupfoodapp.com
DTSTAMP:20260421T051719Z
DTSTART:20260411T120000
DTEND:20260412T200000
SUMMARY:Flavorsmacked Tour - Power Plant Live 
DESCRIPTION:Get your grub on at the Baltimore Street Food Festival &amp\; find your favorite Soul Food @ Shugar Shack &amp\; the Flavorsmacked Tour! April 11th &amp\; 12th - Saturday and Sunday 2-8pm! Ticket link - Baltimore Street Food Festival
LOCATION:34 Market Place\, Baltimore\, MD\, USA
END:VEVENT
END:VCALENDAR
