BEGIN:VCALENDAR
VERSION:2.0
PRODID:-//PopupFoodApp//Event//EN
CALSCALE:GREGORIAN
METHOD:PUBLISH
BEGIN:VEVENT
UID:5-1776748624@popupfoodapp.com
DTSTAMP:20260421T051704Z
DTSTART:20260329T083000
DTEND:20260329T123000
SUMMARY:Valencia 5 Point Farmers Market
DESCRIPTION:Lovely Sunday Farmers Market and some soulful BBQ ! 
LOCATION:27426 Navigation Ave\, Valencia\, CA 91381
END:VEVENT
END:VCALENDAR
