BEGIN:VCALENDAR
VERSION:2.0
PRODID:-//PopupFoodApp//Event//EN
CALSCALE:GREGORIAN
METHOD:PUBLISH
BEGIN:VEVENT
UID:4-1776748612@popupfoodapp.com
DTSTAMP:20260421T051652Z
DTSTART:20260328T170000
DTEND:20260328T220000
SUMMARY:Double Trouble Wine Room
DESCRIPTION:Nothing pairs better with wine then some mouthwatering BBQ~ come and get it! 
LOCATION:24338 Main St\, Santa Clarita\, CA 91321\, USA
END:VEVENT
END:VCALENDAR
