BEGIN:VCALENDAR
VERSION:2.0
PRODID:-//PopupFoodApp//Event//EN
CALSCALE:GREGORIAN
METHOD:PUBLISH
BEGIN:VEVENT
UID:3-1776748639@popupfoodapp.com
DTSTAMP:20260421T051719Z
DTSTART:20260328T090000
DTEND:20260328T130000
SUMMARY:Bloom Ranch Farmers Market
DESCRIPTION:Catch us at ALL the events this weekend! Its a beautiful day to start at the BLOOM RANCH FARMERS MARKET
LOCATION:31880 Aliso Canyon Road\, Acton\, CA\, USA
END:VEVENT
END:VCALENDAR
