BEGIN:VCALENDAR
VERSION:2.0
PRODID:-//PopupFoodApp//Event//EN
CALSCALE:GREGORIAN
METHOD:PUBLISH
BEGIN:VEVENT
UID:11-1776748546@popupfoodapp.com
DTSTAMP:20260421T051546Z
DTSTART:20260503T120000
DTEND:20260503T190000
SUMMARY:Houston POP-UP Market Car Club Showcase
DESCRIPTION:Come check out MUNCHIES ON WHEELS at the Houston POP-UP Market! FREE community event that will have a CAR CLUB SHOWCASE &amp\; multiple vendors! It will have raffles\, moonwalk\, kids games\, performances and MUNCHIES! Fun for the whole family! 
LOCATION:5905 Guhn Road\, Houston\, TX\, USA
END:VEVENT
END:VCALENDAR
