BEGIN:VCALENDAR
VERSION:2.0
PRODID:-//PopupFoodApp//Event//EN
CALSCALE:GREGORIAN
METHOD:PUBLISH
BEGIN:VEVENT
UID:10-1776748546@popupfoodapp.com
DTSTAMP:20260421T051546Z
DTSTART:20260412T090000
DTEND:20260412T130000
SUMMARY:Abiding Cakes GRASS CLIPPINGS ROLLING HILLS - TEMPE 
DESCRIPTION:COME GET YOUR GOODIES from 9am-1PM!! Check out the menu or place a shipment order! ABIDING CAKES ORDER MENU
LOCATION:1415 North Mill Avenue\, Tempe\, AZ\, USA
END:VEVENT
END:VCALENDAR
